BEGIN:VCALENDAR
VERSION:2.0
METHOD:PUBLISH
PRODID:-//Causal Sarl//LionsBase Calendar 5.0.x-dev//DE
TZID:Europe/Zurich
BEGIN:VEVENT
UID:31575_20260619@mostviertel.lions.at
DTSTAMP:20260419T180958Z
DTSTART:20260619T130000Z
DTEND:20260619T163000Z
ORGANIZER:LC Kreuzenstein öffentlich
SUMMARY:Flohmarkt
DESCRIPTION:
END:VEVENT
END:VCALENDAR
